BEGIN:VCALENDAR
VERSION:2.0
METHOD:PUBLISH
PRODID:-//Virginia Tech//VT Calendar//EN
BEGIN:VEVENT
DTSTAMP:20220128T000000Z
UID:1642003489341@events.msu.edu
CATEGORIES:Academic
DTSTART:20220128T000000Z
DTEND:20220128T010000Z
SUMMARY:Neuro Review hosted by OSMP and SNOPS
DESCRIPTION:
 Orthopedics, Sports Medicine and Physiatry in 
 collaboration with Student Neurology, Ophthalmology 
 and Psychiatry Society are providing a 
 Neuro review.  All students welcome.\n
   \n
 Zoom 
 ID: 966 4141 5758\n
 password: neuro\n\n
 Price:  free\n
 Sponsor: student\n
 Contact name: SNOPS/OSMP\n
 Contact email: snopsmsu@gmail.com\n
LOCATION:Zoom
END:VEVENT
END:VCALENDAR
