BEGIN:VCALENDAR
VERSION:2.0
METHOD:PUBLISH
PRODID:-//Virginia Tech//VT Calendar//EN
BEGIN:VEVENT
DTSTAMP:20220412T190000Z
UID:1642005402078@events.msu.edu
CATEGORIES:Special Events
DTSTART:20220412T190000Z
DTEND:20220412T220000Z
SUMMARY:Clothing Repair-a-thon
DESCRIPTION:
 Patch those holes in your favorite clothes! Repair 
 your ripped jeans and replace those shirt 
 buttons! Join our volunteer menders and Spartan 
 Upcycle to gain hands-on help in the Makerspace 
 with your item. We will have sewing machines, 
 thread, and some fabric. Please bring 
 the clothing you want to repair and any patches, 
 specific colors of thread, or buttons for 
 your project. Mending is a fun way to save 
 money and the environment.\n\n
 Price: free\n
 Sponsor: Administration\n
 Sponsor's Homepage: http://www.lib.msu.edu\n
 Contact name: Holly Flynn\n
 Contact phone: 517-884-0901\n
 Contact email: flynnhol@msu.edu\n
 for more info visit the web at:\n 
 https://bookings.lib.msu.edu/event/8686813\n
LOCATION:Main Library
END:VEVENT
END:VCALENDAR
