BEGIN:VCALENDAR
VERSION:2.0
METHOD:PUBLISH
PRODID:-//Virginia Tech//VT Calendar//EN
BEGIN:VEVENT
DTSTAMP:20220329T050000Z
UID:1643824306400-0056@events.msu.edu
CATEGORIES:Student Events
DTSTART;VALUE=DATE:20220329
DTEND;VALUE=DATE:20220330
SUMMARY:Spartan Street Medicine Gift Card Fundraiser 
DESCRIPTION:
 This is an ongoing fundraiser to raise money and 
 purchase gift cards to help our unsheltered 
 friends eat a hot meal inside a warm place! 
 It has been extremely cold lately and we want 
 to help our friends warm up a bit this winter.\n
 \n\n
 Price: -\n
 Sponsor: Spartan Street Medicine\n
 Contact name: Olivia Marvin\n
 Contact email: marvinol@msu.edu\n
LOCATION:Venmo @Olivia-marvin to make a donation
END:VEVENT
END:VCALENDAR
