BEGIN:VCALENDAR
VERSION:2.0
METHOD:PUBLISH
PRODID:-//Virginia Tech//VT Calendar//EN
BEGIN:VEVENT
DTSTAMP:20220324T230000Z
UID:1645648144085@events.msu.edu
CATEGORIES:Special Events
DTSTART:20220324T230000Z
DTEND:20220325T010000Z
SUMMARY:Science of Grief: Poetry Workshop and Reading
DESCRIPTION:
 Natasha T. Miller is bringing the Science of Grief 
 to MSU and the Greater Lansing community 
 for the first time. This poetry workshop dedicated 
 to individual and community wellbeing 
 kicks off the Science of Grief 2022. \n
 \n
  \n
 Sometimes 
 the detached language of medical records 
 reduces the patient to a graph, a collection 
 of figures, or a list of symptoms. How can 
 we use poetry to transform the data into the 
 human? In this workshop with Natasha T. Miller 
 and Lauren Russell, Director of the RCAH 
 Center for Poetry, we will create new poems 
 from old medical records, in conversation with 
 the exhibition Kahlo Without Borders. We'll 
 then have an open-mic style reading of the poems 
 created in the workshop. Please bring copies 
 of medical records you are interested in 
 working with, such as an after-visit summary, 
 psychological evaluation, immunization record, 
 lab data, or an imaging report. Registration 
 for this free, online event is required. 
 Register here.  \n
 \n
   \n
 \n
 This event is presented 
 in partnership with MSU Museum's Science 
 Gallery, The Writing Center, the Creative Writing 
 Program and RCAH Center for Poetry at MSU. 
  \n
 \n
   \n
 \n
 Kahlo Without Borders is on view 
 through Aug. 7, 2022 at the MSU Broad Art 
 Museum.  \n
 \n
   \n
 \n
 This event will take place 
 on Zoom. \n\n
 Price: free, registration is required\n
 Sponsor: public\n
 Contact name: Broad MSU\n
 Contact phone: (517) 884-4800\n
 Contact email: eebam@msu.edu\n
 for more info visit the web at:\n 
 https://urldefense.com/v3/__http://50807.blackbaudhosting.com/50807/Science-of-Grief-Letter-Writing-\n
LOCATION:Eli and Edythe Broad Art Museum at Michigan State University
END:VEVENT
END:VCALENDAR
