BEGIN:VCALENDAR
VERSION:2.0
METHOD:PUBLISH
PRODID:-//Virginia Tech//VT Calendar//EN
BEGIN:VEVENT
DTSTAMP:20220408T050000Z
UID:1646791139412-0005@events.msu.edu
CATEGORIES:Student Events
DTSTART;VALUE=DATE:20220408
DTEND;VALUE=DATE:20220409
SUMMARY:CAMSA P.B.J. Outreach Drive
DESCRIPTION:
 Chaldean American Medical Student Association 
 is hosting a drive with all proceeds going to 
 P.B.J. Outreach, Inc., a nonprofit organization 
 focused on feeding & clothing the poor and 
 marginalized living in the Detroit metropolitan 
 area. They provide food and clothing for 
 approximately 250-350 people every Saturday 
 morning. The drive will be held at all 3 campuses 
 during the week of April 4th, 2022. Below 
 is a list of the items that are needed for 
 donation. \n
 \n
 FOOD: jelly, tuna fish, coffee, 
 sugar, candy, zip lock bags, canned/boxed foods, 
 juice, cereal, goldfish, crackers, chips, 
 pretzels, cookies\n
 \n
 HYGIENE ITEMS (new only): 
 toothbrush, bar soap, toothpaste, hand cream, 
 shaving cream, mouthwash, disposable razors, 
 deodorant, chap stick, kleenex, toilet paper, 
 combs, washcloths\n
 \n
 MEDICINAL: triple 
 antibiotic ointment, hydrocortisone cream, anti-fungal 
 foot cream, muscle rub, band aids\n\n
 Contact name: Anthony Abro\n
 Contact email: abroanth@msu.edu\n
LOCATION:EL First floor lobby East Fee Hall, DMC Student Lounge and Macomb Student Lounge
END:VEVENT
END:VCALENDAR
