BEGIN:VCALENDAR
VERSION:2.0
METHOD:PUBLISH
PRODID:-//Virginia Tech//VT Calendar//EN
BEGIN:VEVENT
DTSTAMP:20220505T040000Z
UID:1648603717762-0018@events.msu.edu
CATEGORIES:Student Events
DTSTART;VALUE=DATE:20220505
DTEND;VALUE=DATE:20220506
SUMMARY:American Medical Women's Association Drive for Alternatives for Girls (MSUCOM)
DESCRIPTION:
 American Medical Women's Association Drive for 
 Alternatives for Girls. The organization Alternatives 
 for Girls is in Detroit and provides 
 young women a place to stay and avenues to 
 escape abusive relationships. Visit Amazon Wish 
 List https://www.amazon.com/hz/wishlist/ls/29DN172APETBS/ref=hz_ls_biz_ex 
 For more information 
 visit https://alternativesforgirls.org/\n\n
 Price: taking donations\n
 Contact email:  amwaatmsucom@gmail.com\n
LOCATION:Amazon Wish List
END:VEVENT
END:VCALENDAR
