BEGIN:VCALENDAR
VERSION:2.0
METHOD:PUBLISH
PRODID:-//Virginia Tech//VT Calendar//EN
BEGIN:VEVENT
DTSTAMP:20220501T173000Z
UID:1649269908711@events.msu.edu
CATEGORIES:Special Events
DTSTART:20220501T173000Z
DTEND:20220501T190000Z
SUMMARY:Therapy Dogs
DESCRIPTION:
 Take a study break and pet a dog!\n\n
 Price: free\n
 Sponsor: Administration\n
 Sponsor's Homepage: http://www.lib.msu.edu\n
 Contact name: Holly Flynn\n
 Contact phone: 517-884-0901\n
 Contact email: flynnhol@msu.edu\n
 for more info visit the web at:\n 
 https://bookings.lib.msu.edu/event/9030537\n
LOCATION:Main Library 
END:VEVENT
END:VCALENDAR
