BEGIN:VCALENDAR
VERSION:2.0
METHOD:PUBLISH
PRODID:-//Virginia Tech//VT Calendar//EN
BEGIN:VEVENT
DTSTAMP:20220518T220000Z
UID:1651680486350@events.msu.edu
CATEGORIES:Public Programs
DTSTART:20220518T220000Z
DTEND:20220519T000000Z
SUMMARY:Ride of Silence
DESCRIPTION:
 The 15th Annual Greater Lansing Ride of Silence 
 will be a solemn bicycling procession to honor 
 cyclists who have been killed or injured 
 while cycling on public roadways.  It is one 
 of over 300 world-wide similar rides occurring 
 simultaneously as the Global Ride of Silence 
 commemorates its 20th year.\n
 \n
 The bicycling 
 procession will begin at MSU and end at the 
 Capitol.  Bicyclists of all ages and riding 
 skill levels are invited to participate.  \n
 \n
 Registration 
 will take place on Wednesday May 
 18 between 5:15 p.m. to 6:15 p.m. at the Wells 
 Hall Plaza (between Wells Hall and the International 
 Center) on the Michigan State University 
 campus. The memorial ride will start 
 promptly at 6:30 p.m. from the plaza. Helmets 
 are required. It will be conducted in solemn 
 and reflective silence, with a police escort 
 provided, culminating in a short memorial ceremony 
 on the Capitol steps.  We will ride in 
 the rain, but not lightning or other severe 
 weather; the thunderstorm date is the following 
 Saturday, May 21, at noon (registration 11:15).\n
 \n
 There 
 is no charge for this event. There 
 will be an optional after-ride celebration 
 at Ozone's Brewhouse. Check the Facebook event 
 page to confirm event details:  https://fb.me/e/2RsApUcoB\n
 \n
 The 
 Greater Lansing Ride 
 of Silence is sponsored by MSU Bikes and the 
 Tri-County Bicycle Association.\n\n
 Price: free\n
 Sponsor: public\n
 Contact name: Pat Harrington\n
 Contact phone: 517-202-0812\n
 Contact email: rideofsilencegl@gmail.com\n
 for more info visit the web at:\n 
 https://fb.me/e/2RsApUcoB\n
LOCATION:Wells Hall Plaza
END:VEVENT
END:VCALENDAR
