BEGIN:VCALENDAR
VERSION:2.0
METHOD:PUBLISH
PRODID:-//Virginia Tech//VT Calendar//EN
BEGIN:VEVENT
DTSTAMP:20220928T200000Z
UID:1661174537354@events.msu.edu
CATEGORIES:Training
DTSTART:20220928T200000Z
DTEND:20220928T210000Z
SUMMARY: Intro to CNC Routing for Beginners
DESCRIPTION:
 Curious how CNC routers work? Do you want to make 
 designs out of more durable materials, such 
 as wood? Join us to learn more about how a 
 CNC works and how to prepare files for CNC routing 
 at the Makerspace! Our ShopBot Max ATC 
 can cut wood three dimensionally and up to 3x2 
 ft in size.\n
 \n
 This workshop is offered in 
 person and online. To register for the online 
 version, please visit https://bookings.lib.msu.edu/event/9468787\n\n
 Price: free\n
 Sponsor: Administration\n
 Sponsor's Homepage: http://www.lib.msu.edu\n
 Contact name: Holly Flynn\n
 Contact phone: 517-884-0901\n
 Contact email: flynnhol@msu.edu\n
 for more info visit the web at:\n 
 https://bookings.lib.msu.edu\n
LOCATION:MSU Main Library
END:VEVENT
END:VCALENDAR
