BEGIN:VCALENDAR
VERSION:2.0
METHOD:PUBLISH
PRODID:-//Virginia Tech//VT Calendar//EN
BEGIN:VEVENT
DTSTAMP:20221101T233000Z
UID:1666117506603@events.msu.edu
CATEGORIES:Performing Arts (Dance, Music, Theatre,  ...)
DTSTART:20221101T233000Z
DTEND:20221102T035900Z
SUMMARY:Jean Rondeau, harpsichord, Early Music Series
DESCRIPTION:
 Taylor Johnston Early Music Series\n
 \n
 Presenting 
 keyboard works by Bach, some of the most valuable 
 contributions to the art of contrapuntal 
 music.\n\n
 Price: students: $7, seniors: $15, adults: $17\n
 Sponsor: College of Music\n
 Sponsor's Homepage: http://www.music.msu.edu\n
 for more info visit the web at:\n 
 https://www.etix.com/ticket/p/5840288/jean-rondeauharpsichord-east-lansing-fairchild-theatre\n
LOCATION:Fairchild Theatre
END:VEVENT
END:VCALENDAR
