BEGIN:VCALENDAR
VERSION:2.0
METHOD:PUBLISH
PRODID:-//Virginia Tech//VT Calendar//EN
BEGIN:VEVENT
DTSTAMP:20230128T010000Z
UID:1666122178835@events.msu.edu
CATEGORIES:Performing Arts (Dance, Music, Theatre,  ...)
DTSTART:20230128T010000Z
DTEND:20230128T045900Z
SUMMARY:Ensemble Decipher
DESCRIPTION:
 Artist-faculty and Guest Recital Series sponsored 
 by WKAR\n
 \n
 This guest experimental group 
 will perform a variety of vintage and contemporary 
 music through emerging technologies.\n
 \n
 (General 
 admission, free for students)\n\n
 Price: students: free, seniors: $10, adults: $12\n
 Sponsor: College of Music\n
 Sponsor's Homepage: http://www.music.msu.edu\n
 for more info visit the web at:\n 
 https://www.etix.com/ticket/p/8742500/ensemble-decipher-east-lansing-murray-hall\n
LOCATION:Murray Hall
END:VEVENT
END:VCALENDAR
