BEGIN:VCALENDAR
VERSION:2.0
METHOD:PUBLISH
PRODID:-//Virginia Tech//VT Calendar//EN
BEGIN:VEVENT
DTSTAMP:20230211T010000Z
UID:1666122760822@events.msu.edu
CATEGORIES:Performing Arts (Dance, Music, Theatre,  ...)
DTSTART:20230211T010000Z
DTEND:20230211T045900Z
SUMMARY:Symphony Orchestra: Orchestral tour de force
DESCRIPTION:
 MSU Orchestras\n
 \n
 Octavio Más-Arocas, conductor. 
 \n
 \n
 (Free for students)\n\n
 Price: students: free, seniors: $10, adults: $12\n
 Sponsor: College of Music\n
 Sponsor's Homepage: http://www.music.msu.edu\n
 for more info visit the web at:\n 
 https://www.etix.com/ticket/p/6214540/symphony-orchestraorchestral-tour-de-force-east-lansing-cobb-g\n
LOCATION:Cobb Great Hall - Wharton Center
END:VEVENT
END:VCALENDAR
