BEGIN:VCALENDAR
VERSION:2.0
METHOD:PUBLISH
PRODID:-//Virginia Tech//VT Calendar//EN
BEGIN:VEVENT
DTSTAMP:20230326T000000Z
UID:1666359403929@events.msu.edu
CATEGORIES:Performing Arts (Dance, Music, Theatre,  ...)
DTSTART:20230326T000000Z
DTEND:20230326T045900Z
SUMMARY:Falstaff by Giuseppe Verdi
DESCRIPTION:
 Worthington Family Foundation Opera Theatre Season\n
 Wednesday, 
 7:00 p.m. Friday, 7:00 p.m. 
 Saturday, 7:00 p.m. Sunday, 3:00 p.m.\n
 \n
 A Shakespearean 
 story of an aged, oversized knight 
 and his foolish attempt to woo two merry wives.\n
 \n
 (Reserved 
 seating: $22 for adults, $20 
 for seniors, $12 for students and those under 
 age 18)\n\n
 Price: students: $12, seniors: $20, adults: $22\n
 Sponsor: College of Music\n
 Sponsor's Homepage: http://www.music.msu.edu\n
 for more info visit the web at:\n 
 https://www.etix.com/ticket/p/2762121/falstaff-by-giuseppe-verdi-east-lansing-fairchild-theatre\n
LOCATION:Fairchild Theatre
END:VEVENT
END:VCALENDAR
