BEGIN:VCALENDAR
VERSION:2.0
METHOD:PUBLISH
PRODID:-//Virginia Tech//VT Calendar//EN
BEGIN:VEVENT
DTSTAMP:20230408T010000Z
UID:1666969073557@events.msu.edu
CATEGORIES:Performing Arts (Dance, Music, Theatre,  ...)
DTSTART:20230408T010000Z
DTEND:20230408T045900Z
SUMMARY:Friends and Family 2
DESCRIPTION:
 Artist-faculty and Guest Recital Series sponsored 
 by WKAR\n
 \n
 Baritone Mark Rucker and piano 
 accompanist Sadie Rucker invite you to their 
 second annual Friends and Family Recital.\n
 \n
 (General 
 admission, free for students)\n\n
 Price: students: free, seniors: $10, adults: $12\n
 Sponsor: College of Music\n
 Sponsor's Homepage: http://www.music.msu.edu\n
 for more info visit the web at:\n 
 https://www.etix.com/ticket/p/2642012/friends-and-family-2-east-lansing-fairchild-theatre\n
LOCATION:Fairchild Theatre
END:VEVENT
END:VCALENDAR
