BEGIN:VCALENDAR
VERSION:2.0
METHOD:PUBLISH
PRODID:-//Virginia Tech//VT Calendar//EN
BEGIN:VEVENT
DTSTAMP:20230412T000000Z
UID:1667837567752@events.msu.edu
CATEGORIES:Performing Arts (Dance, Music, Theatre,  ...)
DTSTART:20230412T000000Z
DTEND:20230412T035900Z
SUMMARY:Recital of New Compositions by Composition Studio Students
DESCRIPTION:
  Price: free\n
 Sponsor: College of Music\n
 Sponsor's Homepage: http://www.music.msu.edu\n
LOCATION:Cook Recital Hall
END:VEVENT
END:VCALENDAR
