BEGIN:VCALENDAR
VERSION:2.0
METHOD:PUBLISH
PRODID:-//Virginia Tech//VT Calendar//EN
BEGIN:VEVENT
DTSTAMP:20230129T180000Z
UID:1669226272898@events.msu.edu
CATEGORIES:Exhibits (Museum, Gardens, ...)
DTSTART:20230129T180000Z
DTEND:20230129T190000Z
SUMMARY:Curator Tour
DESCRIPTION:
 Did you know that Zaha Hadid designed more than 
 buildings? Join Assistant Curator Rachel Winter 
 for a special walkthrough of the exhibition 
 Zaha Hadid Design: Untold, which explores 
 the life and creative practice of the MSU Broad 
 Art Museum building's architect, Zaha Hadid, 
 and the work of her studio, Zaha Hadid Design. 
 Registration for this free event is required. 
 Register here. \n
 \n
 Zaha Hadid Design: 
 Untold is on view through Feb. 12, 2023, a signature 
 celebration of the museum's 10th anniversary. 
 \n\n
 Price: free\n
 Sponsor: public\n
 Contact name: Broad MSU\n
 Contact phone: (517) 884-4800\n
 Contact email: eebam@msu.edu\n
 for more info visit the web at:\n 
 https://50807.blackbaudhosting.com/50807/Curator-Tour-29Jan2023\n
LOCATION:Eli and Edythe Broad Art Museum at Michigan State University
END:VEVENT
END:VCALENDAR
