BEGIN:VCALENDAR
VERSION:2.0
METHOD:PUBLISH
PRODID:-//Virginia Tech//VT Calendar//EN
BEGIN:VEVENT
DTSTAMP:20221207T230000Z
UID:1669750647512@events.msu.edu
CATEGORIES:Performing Arts (Dance, Music, Theatre,  ...)
DTSTART:20221207T230000Z
DTEND:20221208T045900Z
SUMMARY:Octavius Hernandez, bassoon DMA
DESCRIPTION:
  Price: free\n
 Sponsor: College of Music\n
 Sponsor's Homepage: http://www.music.msu.edu\n
LOCATION:Cook Recital Hall
END:VEVENT
END:VCALENDAR
