BEGIN:VCALENDAR
VERSION:2.0
METHOD:PUBLISH
PRODID:-//Virginia Tech//VT Calendar//EN
BEGIN:VEVENT
DTSTAMP:20230226T160000Z
UID:1670726277395@events.msu.edu
CATEGORIES:Special Events
DTSTART:20230226T160000Z
DTEND:20230226T210000Z
SUMMARY:Greater Lansing Orchid Show and Sale
DESCRIPTION:
 The Greater Lansing Orchid Show and Sale is one 
 of the biggest in Michigan!  Enjoy the beautiful 
 flowers and exhibits, a welcome respite 
 from winter's cold. Learn how to grow orchids 
 and brighten up your home with some of the 
 spectacular flowers on sale!\n\n
 Price: free\n
 Sponsor: public\n
 Contact name: Ioana Sonea\n
 Contact email: ioanamsonea@gmail.com\n
 for more info visit the web at:\n 
 https://www.greaterlansingorchidsociety.com/GLOSShow.html\n
LOCATION:Conservatory, Plant and Soil Sciences, 1066 Bogue Street
END:VEVENT
END:VCALENDAR
