BEGIN:VCALENDAR
VERSION:2.0
METHOD:PUBLISH
PRODID:-//Virginia Tech//VT Calendar//EN
BEGIN:VEVENT
DTSTAMP:20230126T203000Z
UID:1670858213517@events.msu.edu
CATEGORIES:Special Events
DTSTART:20230126T203000Z
DTEND:20230126T213000Z
SUMMARY:MSU GIS Users Meet Up (In Person)
DESCRIPTION:
 Come visit with other MSU community members who 
 are using GIS in their teaching and research! 
 We will be discussing any issues, projects 
 and topics that community members want to bring 
 to the meet up. Questions about new GIS products, 
 GIS method questions, strategies for 
 teaching GIS are all possible topics of conversation. 
 The goal of this event is to break 
 through the usual disciplinary and departmental 
 boundaries to have a conversation about GIS 
 at MSU. \n
 \n
 We will be meeting in the Map Library, 
 on the second floor of the east wing 
 of the MSU Main Library.\n\n
 Price: free\n
 Sponsor: Administration\n
 Sponsor's Homepage: http://www.lib.msu.edu\n
 Contact name: Holly Flynn\n
 Contact phone: 517-884-0901\n
 Contact email: flynnhol@msu.edu\n
 for more info visit the web at:\n 
 https://bookings.lib.msu.edu/event/9961860\n
LOCATION:Main Library 
END:VEVENT
END:VCALENDAR
