BEGIN:VCALENDAR
VERSION:2.0
METHOD:PUBLISH
PRODID:-//Virginia Tech//VT Calendar//EN
BEGIN:VEVENT
DTSTAMP:20230226T180000Z
UID:1671643869695@events.msu.edu
CATEGORIES:Exhibits (Museum, Gardens, ...)
DTSTART:20230226T180000Z
DTEND:20230226T190000Z
SUMMARY:Museum Tour: Architecture
DESCRIPTION:
 What does the MSU Broad Art Museum look like to 
 you? Learn more about our unique building and 
 the Pritzker Prize-winning architect behind 
 it through this tour led by our Educator for 
 Student Engagement + Access. All ages are welcome. 
 Registration for this free event is required. 
 Register here. \n\n
 Price: free, registration is required\n
 Sponsor: public\n
 Contact name: Broad MSU\n
 Contact phone: (517) 884-4800\n
 Contact email: eebam@msu.edu\n
 for more info visit the web at:\n 
 https://50807.blackbaudhosting.com/50807/ArchitectureTour\n
LOCATION:Eli and Edythe Broad Art Museum at Michigan State University
END:VEVENT
END:VCALENDAR
