BEGIN:VCALENDAR
VERSION:2.0
METHOD:PUBLISH
PRODID:-//Virginia Tech//VT Calendar//EN
BEGIN:VEVENT
DTSTAMP:20230409T180000Z
UID:1679580056585@events.msu.edu
CATEGORIES:Public Programs
DTSTART:20230409T180000Z
DTEND:20230409T200000Z
SUMMARY:Collection Reframe: A Community Conversation 
DESCRIPTION:
 Have you ever wondered how museums make decisions 
 about what's on display? You're invited to 
 be part of the behind-the-scenes process! Join 
 the MSU Broad Art Museum staff for a series 
 of interactive brainstorming and listening 
 sessions about our museum's collection, and 
 how we can present it in a new, collection-focused 
 space that's coming soon. Registration 
 for this free event is required.\n\n
 Price: free\n
 Sponsor: public\n
 Contact name: MSU Broad\n
 Contact phone:  (517) 884-4800\n
 Contact email: eebam@msu.edu\n
 for more info visit the web at:\n 
 https://50807.blackbaudhosting.com/50807/Collection-Reframe-A-Community-Conversation-09Apr2023\n
LOCATION:Eli and Edythe Broad Art Museum
END:VEVENT
END:VCALENDAR
