BEGIN:VCALENDAR
VERSION:2.0
METHOD:PUBLISH
PRODID:-//Virginia Tech//VT Calendar//EN
BEGIN:VEVENT
DTSTAMP:20230414T220000Z
UID:1679580399731@events.msu.edu
CATEGORIES:Special Events
DTSTART:20230414T220000Z
DTEND:20230415T000000Z
SUMMARY:Night at the Museums 
DESCRIPTION:
 Enjoy an all-ages evening of science + art-inspired 
 activities offered in celebration of the 
 MSU Science Festival. Jointly hosted by the 
 MSU Museum and the MSU Broad Art Museum, activities 
 range from behind-the-scenes tours to 
 art-making! Registration for this free event 
 is required.  \n
 \n
 This event is in partnership 
 with the MSU Science Festival. The MSU Science 
 Festival is a &quot;free annual celebration 
 of science.&quot; \n\n
 Price: free\n
 Sponsor: public\n
 Contact name: MSU Broad\n
 Contact phone:  (517) 884-4800\n
 Contact email: eebam@msu.edu\n
 for more info visit the web at:\n 
 https://50807.blackbaudhosting.com/50807/Night-at-the-Museums\n
LOCATION:Eli and Edythe Broad Art Museum
END:VEVENT
END:VCALENDAR
