BEGIN:VCALENDAR
VERSION:2.0
METHOD:PUBLISH
PRODID:-//Virginia Tech//VT Calendar//EN
BEGIN:VEVENT
DTSTAMP:20230410T140000Z
UID:1680216054657@events.msu.edu
CATEGORIES:Student Events
DTSTART:20230410T140000Z
DTEND:20230410T160000Z
SUMMARY:E-SIP with The Burgess Institute of Entrepreneurship and Innovation
DESCRIPTION:
 Join us for free Groovy Donuts & Blue Owl Coffee 
 to kick off 2023's Entrepreneurship & Innovation 
 Week at MSU!\n\n
 Price: Free\n
 Sponsor: public\n
 Contact name: Aubrey Haase\n
 Contact phone: 269-532-2726\n
 Contact email: haaseaub@msu.edu\n
 for more info visit the web at:\n 
 https://entrepreneurship.msu.edu/eiweek\n
LOCATION:Lawn of the College of Law, across from the Eppley Center & the BCC
END:VEVENT
END:VCALENDAR
