BEGIN:VCALENDAR
VERSION:2.0
METHOD:PUBLISH
PRODID:-//Virginia Tech//VT Calendar//EN
BEGIN:VEVENT
DTSTAMP:20230905T040000Z
UID:1690901878390-0022@events.msu.edu
CATEGORIES:Special Events
DTSTART;VALUE=DATE:20230905
DTEND;VALUE=DATE:20230906
SUMMARY:"FILL THE BUS"
DESCRIPTION:
 Spartan Students! The MSU Center for Community 
 Engaged Learning and MSU Alumni invites you 
 to participate in our 15th Annual "Fill the Bus" 
 event. We strive to give local students and 
 families an equal start to the new school 
 year! When a student walks into the classroom 
 with the basic supplies they need, they can 
 focus on what really matters - learning! Students 
 you can donate New school supplies (ex. 
 pack of Crayons, Pack of #2 Pencils, Pack of 
 Markers, Notebooks, and or Folders) at the Center 
 for Community Engaged Learning located in 
 the Student Services Building, Suite 101. You 
 can also make a monetary donation online through 
 our CrowdPower fundraising page. For more 
 information and all the places and events 
 to find us and or make a donation please visit 
 our website https://communityengagedlearning.msu.edu/\n\n
 Price: free\n
 Sponsor: Administration\n
 Sponsor's Homepage: https://communityengagedlearning.msu.edu/\n
 Contact name: K.C. Keyton\n
 Contact phone: (517) 355-3325\n
 Contact email: keytonkr@msu.edu\n
 for more info visit the web at:\n 
 http://communityengagedlearning.msu.edu/\n
LOCATION:Virtual and SSB, Suite 101
END:VEVENT
END:VCALENDAR
