BEGIN:VCALENDAR
VERSION:2.0
METHOD:PUBLISH
PRODID:-//Virginia Tech//VT Calendar//EN
BEGIN:VEVENT
DTSTAMP:20230820T230000Z
UID:1691074522758@events.msu.edu
CATEGORIES:Special Events
DTSTART:20230820T230000Z
DTEND:20230821T035900Z
SUMMARY:COMMUNITY MEETINGS
DESCRIPTION:
 On-campus residents will have a community meeting 
 one night during move-in. Residents moving 
 in on or before Sunday, August 20, will meet 
 on Sunday, August 20, at 7 p.m. Exact locations 
 will vary per hall and will be shared by 
 the Residence Education team. During this meeting, 
 residents will meet their hall staff, 
 learn more about the hall, and review important 
 policies and procedures. Participation in 
 this MEETING IS REQUIRED.\n\n
 Price: free\n
 Sponsor: Administration\n
 Sponsor's Homepage: http://liveon.msu.edu\n
 Contact phone: 517-884-5483\n
 Contact email: liveon@msu.edu\n
 for more info visit the web at:\n 
 https://spartanexperiences.msu.edu/fall-welcome/events-fall-welcome/2-day-before-fall-welcome.html\n
LOCATION:Your residence hall community 
END:VEVENT
END:VCALENDAR
