BEGIN:VCALENDAR
VERSION:2.0
METHOD:PUBLISH
PRODID:-//Virginia Tech//VT Calendar//EN
BEGIN:VEVENT
DTSTAMP:20230824T123000Z
UID:1691082353770@events.msu.edu
CATEGORIES:Special Events
DTSTART:20230824T123000Z
DTEND:20230825T035900Z
SUMMARY:CONVOCATION SERVICE AND ENGAGEMENT ACTIVITIES
DESCRIPTION:
 Prior to the start of Convocation, please join 
 the MSU Center for Community Engaged Learning 
 (CCEL) on the concourse of the Breslin Center 
 to engage in a Service Project, learn more 
 about Philanthropy, and how to prepare yourselves 
 for this upcoming voting season! We will 
 have a TShirt giveaway to the first 500 participants! 
 Hosted by CCEL in partnership with 
 MSUVote. Early arriving students will also have 
 the opportunity to receive giveaways (while 
 supplies last), enter a drawing to win prizes, 
 make a 360 video, engage in a wellbeing 
 informational fair, obtain information about 
 student employment opportunities.\n\n
 Price: free\n
 Sponsor: Administration\n
 Sponsor's Homepage: https://communityengagedlearning.msu.edu/\n
 Contact name: K.C. Keyton\n
 Contact email: keytonkr@msu.edu\n
 for more info visit the web at:\n 
 https://spartanexperiences.msu.edu/fall-welcome/events-fall-welcome/3-day-fall-welcome.html\n
LOCATION:Breslin Center Concourse
END:VEVENT
END:VCALENDAR
