BEGIN:VCALENDAR
VERSION:2.0
METHOD:PUBLISH
PRODID:-//Virginia Tech//VT Calendar//EN
BEGIN:VEVENT
DTSTAMP:20230827T020000Z
UID:1691432873603@events.msu.edu
CATEGORIES:Special Events
DTSTART:20230827T020000Z
DTEND:20230826T160000Z
SUMMARY:GRADUATE SCHOOL RESOURCE FAIR
DESCRIPTION:
 All NEW and RETURNING Graduate & Professional 
 Students are invited to attend the Graduate School's 
 Welcome and Resource Fair on Saturday, 
 August 26. Council of Graduate Students (COGS) 
 will be there! \n\n
 Price: free\n
 Sponsor's Homepage: https://spartanexperiences.msu.edu/fall-welcome/events-fall-welcome/5-day-fall-welcome.html\n
 Contact email: office@cogs.msu.edu\n
LOCATION:MSU Union
END:VEVENT
END:VCALENDAR
