BEGIN:VCALENDAR
VERSION:2.0
METHOD:PUBLISH
PRODID:-//Virginia Tech//VT Calendar//EN
BEGIN:VEVENT
DTSTAMP:20231101T220000Z
UID:1692897462029@events.msu.edu
CATEGORIES:Conferences / Seminars / Lectures
DTSTART:20231101T220000Z
DTEND:20231102T000000Z
SUMMARY:Innovate State: The Challenge Of Healthcare Innovation
DESCRIPTION:
 The Innovate State Speaker Series brings both 
 emerging and accomplished Spartans back to campus 
 for a fireside chat-style interview. These 
 60-minute sessions offer the chance for guests 
 to share their perspectives on a wide array 
 of topics like innovation, startup life, 
 investments, and career paths. Students get the 
 opportunity to hear firsthand about the hard 
 knocks of the entrepreneurship &amp; innovation 
 hustle to maintaining work/life balance. 
 These are stories of success, stories of failures, 
 and stories of uncommon will-and you 
 do not want to miss them.\n
 Innovate State kicks-off 
 at 6 p.m. ET in the Entrepreneurship Lab 
 and are free to the community. This week Todd 
 Dunn, Vice President, Enterprise Innovation 
 at Advocate Health will be joining us. Events 
 will be offered in-person only but are available 
 virtually on the Friday following the 
 event at eship.msu.edu/innovate-state/.  Early 
 registration is highly encouraged. \n\n
 Sponsor: public\n
 Contact name: Aubrey Haase\n
 Contact email: haaseaub@msu.edu\n
LOCATION:Entrepreneurship Lab (651 N. Shaw Ln., M025 Business Pavilion, East Lansing, MI 48824)
END:VEVENT
END:VCALENDAR
