BEGIN:VCALENDAR
VERSION:2.0
METHOD:PUBLISH
PRODID:-//Virginia Tech//VT Calendar//EN
BEGIN:VEVENT
DTSTAMP:20230921T210000Z
UID:1694037016496@events.msu.edu
CATEGORIES:Conferences / Seminars / Lectures
DTSTART:20230921T210000Z
DTEND:20230921T220000Z
SUMMARY:Constitution Day speaker
DESCRIPTION:
 Featured Speakers:  Hyrum Lewis &amp; Verlan Lewis 
 for Constitution Day\n\n
 Price: free\n
 Sponsor: public\n
 Contact name: Jeff Judge\n
 Contact email: judgej@msu.edu\n
 for more info visit the web at:\n 
 http://jmc.msu.edu/events/2023-constitution-day-9.21.23.html\n
LOCATION:Club Spartan, 3rd Floor, Case Hall
END:VEVENT
END:VCALENDAR
