BEGIN:VCALENDAR
VERSION:2.0
METHOD:PUBLISH
PRODID:-//Virginia Tech//VT Calendar//EN
BEGIN:VEVENT
DTSTAMP:20231216T180000Z
UID:1697739793580@events.msu.edu
CATEGORIES:Exhibits (Museum, Gardens, ...)
DTSTART:20231216T180000Z
DTEND:20231216T210000Z
SUMMARY:Cocoa and Collection
DESCRIPTION:
 Bring the whole family to the MSU Broad Art Museum 
 to warm up with hot cocoa and art-making 
 activities inspired by wintry works of art in 
 our collection! All ages are welcome. Registration 
 for this free event is encouraged.\n\n
 Price: free\n
 Sponsor: public\n
 Contact name: MSU Broad\n
 Contact phone: 5178844800\n
 Contact email: eebam@msu.edu\n
 for more info visit the web at:\n 
 https://broadmuseum.msu.edu/events/cocoa-and-collection-20231216/\n
LOCATION:Eli and Edythe Broad Art Museum at Michigan State University
END:VEVENT
END:VCALENDAR
