BEGIN:VCALENDAR
VERSION:2.0
METHOD:PUBLISH
PRODID:-//Virginia Tech//VT Calendar//EN
BEGIN:VEVENT
DTSTAMP:20231110T223000Z
UID:1698333223838@events.msu.edu
CATEGORIES:Performing Arts (Dance, Music, Theatre,  ...)
DTSTART:20231110T223000Z
DTEND:20231111T045900Z
SUMMARY:Young Hyun Cho: Three Beethoven Piano Sonatas
DESCRIPTION:
 Program\n
 Piano Sonata No. 5 in C minor, Op. 10, 
 No. 1			                       Ludwig van Beethoven\n
 											(1770-1827)\n
 I.	Allegro 
 molto e con brio \n
 II.	Adagio molto\n
 III.	Finale: 
 Prestissimo\n
 \n
 \n
 \n
 Piano Sonata No. 6 in 
 F major, Op. 10, No. 2				           Ludwig 
 van Beethoven\n
 \n
 I.	Allegro\n
 II.	Menuetto. Allegretto 
 - Trio - Menuetto\n
 III.	Presto\n
 \n
 \n
 \n
 Piano Sonata No. 7 in D major, Op. 10, No. 
 3                                            
         Ludwig van Beethoven\n
 \n
 I.	Presto\n
 II.	Largo 
 e mesto\n
 III.	Menuetto. Allegro - Trio 
 - Menuetto\n
 IV.	Rondo. Allegro\n
 \n
 Performer 
 Bio\n
 \n
 Young Hyun Cho's concert activities have 
 taken her around the globe. She has performed 
 in Germany, Austria, Italy, Belgium, Hungary, 
 Spain, Poland, the Czech Republic, South 
 Korea, China, Thailand, Malaysia, and throughout 
 the United States. She has performed as 
 a soloist at world's prestigious venues, including 
 Vienna Musikverein and Berlin Philharmonic 
 Concert Hall.  She released her CD with 
 the Last Three Beethoven Piano Sonatas under 
 the SONY Classical label. \n
 \n
 As a featured soloist, 
 Young Hyun Cho performed with Berlin 
 Symphony Orchestra, Filarmonica della Calabria 
 of Italy, North Czech Philharmonic Orchestra 
 Teplice, Bohuslav Martinu Philharmonic Orchestra, 
 Orquesta Sinfónica de la Región de Murcia 
 of Spain, Budapest Symphony Chamber Orchestra 
 MAV, Euro Sinfonietta Wien, Korean Broadcasting 
 System Symphony Orchestra, Korean Symphony 
 Orchestra, Seoul National Symphony Orchestra, 
 Eurasian Philharmonic Orchestra, Daejeon 
 Philharmonic Orchestra, Eastman Symphony Orchestra, 
 Holland Symphony Orchestra, New Philharmonic 
 Orchestra of Irving, Northeast Orchestra, 
 and University of Texas at Arlington Symphony 
 Orchestra. \n
 \n
 As a guest faculty artist, 
 Cho has taught and/or performed at many 
 institutes and universities. She has been a frequent 
 adjudicator for piano competitions and 
 has judged at Dallas Chamber Symphony Orchestra 
 International Competition, State and Regional 
 divisions of the Music Teachers National 
 Association piano competitions. \n
 \n
 Cho received 
 her Doctoral Arts of Musical degree from 
 the Eastman School of Music, Master's degree 
 and Graduate Performance Diploma from Peabody 
 Conservatory, and Bachelor's degree from Seoul 
 National University. Her primary teachers 
 include Nelita True, Boris Slutsky and Mikyung 
 Kim. \n
                                   
                                              
                                              
                                              
                                              
                                              
                                              
                                              
                                              
                                              
                                              
                               Cho is an associate 
 professor of piano at the Michigan State 
 University College of Music. Prior to this, 
 she served as an associate professor at the University 
 of Texas at Arlington.\n
 \n\n
 Price: free\n
 Sponsor: public\n
 Contact name: Bob Patterer\n
 Contact email: events@frib.msu.edu\n
 for more info visit the web at:\n 
 https://frib.msu.edu/gateway/events/concert-10nov2023.html\n
LOCATION:Facility for Rare Isotope Beams
END:VEVENT
END:VCALENDAR
