BEGIN:VCALENDAR
VERSION:2.0
METHOD:PUBLISH
PRODID:-//Virginia Tech//VT Calendar//EN
BEGIN:VEVENT
DTSTAMP:20231114T200000Z
UID:1698967923811@events.msu.edu
CATEGORIES:Student Events
DTSTART:20231114T200000Z
DTEND:20231114T213000Z
SUMMARY:Student National Medical Association Health Professions Recruitment &amp; Exposure Program
DESCRIPTION:
  Price: free\n
 Sponsor: public\n
 Contact name: Peace Ajala\n
 Contact email: ajalapea@msu.edu\n
LOCATION: MMSA Dequindre (27300 Dequindre Rd)
END:VEVENT
END:VCALENDAR
