BEGIN:VCALENDAR
VERSION:2.0
METHOD:PUBLISH
PRODID:-//Virginia Tech//VT Calendar//EN
BEGIN:VEVENT
DTSTAMP:20231201T180000Z
UID:1699390081499@events.msu.edu
CATEGORIES:Student Events
DTSTART:20231201T180000Z
DTEND:20231201T220000Z
SUMMARY:Student Upcycle Friday
DESCRIPTION:
 Join Spartan Upcycle for another free Student 
 Upcycle Friday at the MSU Surplus Store &amp; 
 Recycling Center. We'll offer supplies and guidance 
 for a few projects, and you can choose 
 to do one or all. This is a drop-in style event 
 that runs from 1 - 5 p.m. We look forward 
 to seeing you!\n
 \n
 For event updates, follow 
 us on Instagram: @spartanupcycle\n\n
 Price: Free!\n
 Sponsor: public\n
 Contact name: Katie Deska\n
 Contact phone: 5178986771\n
 Contact email: deskakat@msu.edu\n
 for more info visit the web at:\n 
 https://msurecycling.com/studentinfo/\n
LOCATION:Surplus Store &amp; Recycling Center
END:VEVENT
END:VCALENDAR
