BEGIN:VCALENDAR
VERSION:2.0
METHOD:PUBLISH
PRODID:-//Virginia Tech//VT Calendar//EN
BEGIN:VEVENT
DTSTAMP:20240315T200000Z
UID:1704742000264@events.msu.edu
CATEGORIES:Conferences / Seminars / Lectures
DTSTART:20240315T200000Z
DTEND:20240315T211500Z
SUMMARY:Empire, Ideology, and Poetics of Place in Isfahan
DESCRIPTION:
 Empire, Ideology, and Poetics of Place in Isfahan\n
 Professor 
 Samira Fathi\n
 This will be a hybrid 
 event, with an in-person audience in room 
 303 of the International Center and a Zoom 
 webinar\n
 To register for the webinar, please 
 visit:\n
 https://msu.zoom.us/webinar/register/WN_lrl8f5SUQTaUpmkDzzndHg\n
 \n\n
 Price: free\n
 Sponsor: public\n
 Contact name: Muslim Studies\n
 Contact email: muslimst@msu.edu\n
 for more info visit the web at:\n 
 https://muslimstudies.isp.msu.edu/about/reg-links/\n
LOCATION:Hybrid
END:VEVENT
END:VCALENDAR
