BEGIN:VCALENDAR
VERSION:2.0
METHOD:PUBLISH
PRODID:-//Virginia Tech//VT Calendar//EN
BEGIN:VEVENT
DTSTAMP:20240202T003000Z
UID:1706638866773@events.msu.edu
CATEGORIES:Performing Arts (Dance, Music, Theatre,  ...)
DTSTART:20240202T003000Z
DTEND:20240202T045900Z
SUMMARY:Wind Symphony and St. Olaf College Band
DESCRIPTION:
 MSU Bands\n
 \n
 MSU Wind Symphony and guest symphonic 
 band from St. Olaf College share the stage 
 to perform works by Ralph Vaughan Williams, 
 Morton Gould, and John Corigliano. Kevin L. 
 Sedatole and Henry Dorn, conductors.\n
 \n
 (General 
 admission, free for students)\n\n
 Price: $ General Admission, free for students\n
 Sponsor: College of Music\n
 Sponsor's Homepage: http://www.music.msu.edu\n
 for more info visit the web at:\n 
 https://www.etix.com/ticket/p/2547864/wind-symphony-tba-east-lansing-cobb-great-hall-wharton-center\n
LOCATION:Wharton Center
END:VEVENT
END:VCALENDAR
