BEGIN:VCALENDAR
VERSION:2.0
METHOD:PUBLISH
PRODID:-//Virginia Tech//VT Calendar//EN
BEGIN:VEVENT
DTSTAMP:20240315T003000Z
UID:1706901504469@events.msu.edu
CATEGORIES:Performing Arts (Dance, Music, Theatre,  ...)
DTSTART:20240315T003000Z
DTEND:20240315T045900Z
SUMMARY:Symphony Band
DESCRIPTION:
 MSU Bands\n
 \n
 Presenting works by Tielman Susato, 
 Luis Serrano Alarcón, Michael Daugherty, and 
 Jacques Press. David Thornton, conductor.\n
 \n
 (General 
 admission, free for students)\n\n
 Price: $ General Admission, free for students \n
 Sponsor: College of Music\n
 Sponsor's Homepage: http://www.music.msu.edu\n
 for more info visit the web at:\n 
 https://www.etix.com/ticket/p/5406488/symphony-band-east-lansing-cobb-great-hall-wharton-center\n
LOCATION:Wharton Center 
END:VEVENT
END:VCALENDAR
