BEGIN:VCALENDAR
VERSION:2.0
METHOD:PUBLISH
PRODID:-//Virginia Tech//VT Calendar//EN
BEGIN:VEVENT
DTSTAMP:20240317T200000Z
UID:1706910383655@events.msu.edu
CATEGORIES:Performing Arts (Dance, Music, Theatre,  ...)
DTSTART:20240317T200000Z
DTEND:20240318T045900Z
SUMMARY:Honoring Leonard Falcone's 125th Birthday with MSU's Wind Symphony and Alumni Band
DESCRIPTION:
 MSU Bands\n
 \n
 A celebratory concert honoring legendary 
 MSU Band Director Leonard Falcone. The 
 program includes works by Verdi, Puccini, Bonelli, 
 Rivela, and Fasoli. Kevin L. Sedatole 
 and MSU Alumni guest conductors.\n
 \n
 (General 
 admission, free for students)\n\n
 Price: $ General Admission, free for students\n
 Sponsor: College of Music\n
 Sponsor's Homepage: http://www.music.msu.edu\n
 for more info visit the web at:\n 
 https://www.etix.com/ticket/p/6121254/honoring-leonard-falcones-125th-birthday-with-msus-wind-sympho\n
LOCATION:Wharton Center 
END:VEVENT
END:VCALENDAR
