BEGIN:VCALENDAR
VERSION:2.0
METHOD:PUBLISH
PRODID:-//Virginia Tech//VT Calendar//EN
BEGIN:VEVENT
DTSTAMP:20240403T003000Z
UID:1707330831360@events.msu.edu
CATEGORIES:Performing Arts (Dance, Music, Theatre,  ...)
DTSTART:20240403T003000Z
DTEND:20240403T045900Z
SUMMARY:Viridis and Campus Choir
DESCRIPTION:
 A wide-ranging program of historical and contemporary 
 music from the soprano and alto repertory 
 and music that echos issues of our time. 
 Katy Green and Mariana Romero-Serra, conductors\n\n
 Price: $ General Admission\n
 Sponsor: College of Music\n
 Sponsor's Homepage: http://www.music.msu.edu\n
 for more info visit the web at:\n 
 https://www.etix.com/ticket/p/5487948/viridis-and-campus-choir-east-lansing-fairchild-theatre?_gl=1*\n
LOCATION:Fairchild Theatre 
END:VEVENT
END:VCALENDAR
