BEGIN:VCALENDAR
VERSION:2.0
METHOD:PUBLISH
PRODID:-//Virginia Tech//VT Calendar//EN
BEGIN:VEVENT
DTSTAMP:20240306T230000Z
UID:1707757128140@events.msu.edu
CATEGORIES:Performing Arts (Dance, Music, Theatre,  ...)
DTSTART:20240306T230000Z
DTEND:20240307T003000Z
SUMMARY:NOW Ensemble - clarinet masterclass
DESCRIPTION:
  Price: free\n
 Sponsor: College of Music\n
 Sponsor's Homepage: http://www.music.msu.edu\n
LOCATION:Eichler
END:VEVENT
END:VCALENDAR
