BEGIN:VCALENDAR
VERSION:2.0
METHOD:PUBLISH
PRODID:-//Virginia Tech//VT Calendar//EN
BEGIN:VEVENT
DTSTAMP:20240317T230000Z
UID:1707757686536@events.msu.edu
CATEGORIES:Performing Arts (Dance, Music, Theatre,  ...)
DTSTART:20240317T230000Z
DTEND:20240318T045900Z
SUMMARY:Kevon Thompson, voice
DESCRIPTION:
  Price: free\n
 Sponsor: College of Music\n
 Sponsor's Homepage: http://www.music.msu.edu\n
LOCATION:Cook recital Hall
END:VEVENT
END:VCALENDAR
