BEGIN:VCALENDAR
VERSION:2.0
METHOD:PUBLISH
PRODID:-//Virginia Tech//VT Calendar//EN
BEGIN:VEVENT
DTSTAMP:20240319T210000Z
UID:1707757865505@events.msu.edu
CATEGORIES:Performing Arts (Dance, Music, Theatre,  ...)
DTSTART:20240319T210000Z
DTEND:20240320T045900Z
SUMMARY:Hollander Lecture Series - Jeffrey Magee, U of Illinois
DESCRIPTION:
  Price: free\n
 Sponsor: College of Music\n
 Sponsor's Homepage: http://www.music.msu.edu\n
END:VEVENT
END:VCALENDAR
