BEGIN:VCALENDAR
VERSION:2.0
METHOD:PUBLISH
PRODID:-//Virginia Tech//VT Calendar//EN
BEGIN:VEVENT
DTSTAMP:20240305T230000Z
UID:1709215910649@events.msu.edu
CATEGORIES:Student Events
DTSTART:20240305T230000Z
DTEND:20240306T013000Z
SUMMARY:COLORFUL CREATIONS & COCOA
DESCRIPTION:
 Join us for a cozy evening of creativity and comfort! 
 Dive into our paint by numbers experience 
 while sipping on rich, velvety hot cocoa. 
 Our stress-free, guided templates ensure an 
 enjoyable time for all skill levels. Let the 
 soothing sweetness of cocoa fuel your creativity 
 as you mingle with fellow art enthusiasts. 
 Don't miss this unique opportunity to paint, 
 sip, and savor the magic of creativity!\n\n
 Price: Free for all MSU students, all must show ID\n
 Sponsor: UAB\n
 Sponsor's Homepage: http://www.uabevents.com\n
 Contact name: University Activities Board\n
 Contact phone: 517-355-3354\n
 Contact email: uab@msu.edu\n
 for more info visit the web at:\n 
 https://uabevents.com/\n
LOCATION:Brody Hall 
END:VEVENT
END:VCALENDAR
