BEGIN:VCALENDAR
VERSION:2.0
METHOD:PUBLISH
PRODID:-//Virginia Tech//VT Calendar//EN
BEGIN:VEVENT
DTSTAMP:20240418T210000Z
UID:1711493437789@events.msu.edu
CATEGORIES:Student Events
DTSTART:20240418T210000Z
DTEND:20240418T220000Z
SUMMARY:Latin Medical Student Association Event featuring Dr. Richard Bryce
DESCRIPTION:
 Dr. Richard Bryce will be speaking about working 
 with Latin American communities in Detroit.\n
 \n
 Join 
 Zoom Meeting\n
 https://msu.zoom.us/j/98806842918\n
 \n
 Meeting 
 ID: 988 0684 2918\n
 Passcode: 
 LMSA\n\n
 Price:  free\n
 Sponsor: Latin Medical Student Association\n
 Contact name: Ruben Aguilar\n
 Contact phone: 9093541272\n
 Contact email: Aguil117@msu.edu\n
LOCATION:Zoom, EL- E. Fee (Patenge Conference Room), MUC, DMC
END:VEVENT
END:VCALENDAR
