BEGIN:VCALENDAR
VERSION:2.0
METHOD:PUBLISH
PRODID:-//Virginia Tech//VT Calendar//EN
BEGIN:VEVENT
DTSTAMP:20240419T173000Z
UID:1711833533882@events.msu.edu
CATEGORIES:Student Events
DTSTART:20240419T173000Z
DTEND:20240419T193000Z
SUMMARY:DMC Peer Mentors QPR Training
DESCRIPTION:
 Mandatory QPR training for new Peer Mentors at 
 DMC\n\n
 Price:  free\n
 Sponsor: Peer Mentors\n
 Contact name: Izza Ali\n
 Contact email: Aliizza@msu.edu\n
LOCATION:DMC G029
END:VEVENT
END:VCALENDAR
