BEGIN:VCALENDAR
VERSION:2.0
METHOD:PUBLISH
PRODID:-//Virginia Tech//VT Calendar//EN
BEGIN:VEVENT
DTSTAMP:20240825T170000Z
UID:1718301139738@events.msu.edu
CATEGORIES:Student Events
DTSTART:20240825T170000Z
DTEND:20240825T200000Z
SUMMARY:Welcome Back, SpaARTans!
DESCRIPTION:
 Welcome back, students! We missed you over the 
 summer-wanna hang out? Stop by your free campus 
 art museum to check out our exhibitions and 
 screen print your own custom-designed tote 
 bag to carry around campus!\n\n
 Price: free\n
 Sponsor: public\n
 Contact name: MSU Broad Art Museum\n
 Contact phone: (517) 884-4800\n
 Contact email: eebam@msu.edu\n
 for more info visit the web at:\n 
 https://broadmuseum.msu.edu/events/welcome-back-spartans-08242024/\n
LOCATION:Eli and Edythe Broad Art Museum
END:VEVENT
END:VCALENDAR
