BEGIN:VCALENDAR
VERSION:2.0
METHOD:PUBLISH
PRODID:-//Virginia Tech//VT Calendar//EN
BEGIN:VEVENT
DTSTAMP:20241004T160000Z
UID:1726425800569@events.msu.edu
CATEGORIES:Student Events
DTSTART:20241004T160000Z
DTEND:20241005T035900Z
SUMMARY:UAB Giveaway Day: Popsicle Pickup
DESCRIPTION:
 Pop by the MSU Union to pick up a refreshing popsicle 
 while supplies last and learn more about 
 our upcoming UAB events!\n\n
 Price: Free for all MSU students, all must show ID\n
 Sponsor: UAB\n
 Sponsor's Homepage: http://www.uabevents.com\n
 Contact name: University Activities Board\n
 Contact phone: 517-355-3354\n
 Contact email: uab@msu.edu\n
 for more info visit the web at:\n 
 https://uabevents.com/\n
LOCATION:MSU Union, Main Lounge
END:VEVENT
END:VCALENDAR
