BEGIN:VCALENDAR
VERSION:2.0
METHOD:PUBLISH
PRODID:-//Virginia Tech//VT Calendar//EN
BEGIN:VEVENT
DTSTAMP:20241020T170000Z
UID:1728503782631@events.msu.edu
CATEGORIES:Exhibits (Museum, Gardens, ...)
DTSTART:20241020T170000Z
DTEND:20241020T180000Z
SUMMARY:Curator Tour: Eye Witness
DESCRIPTION:
 Join Assistant Curator Rachel Winter for an exclusive 
 walkthrough of Samia Halaby: Eye Witness. 
 Follow the artist's creative journey and 
 discover how her first American museum retrospective 
 came to fruition.\n\n
 Price: free\n
 Sponsor: public\n
 Contact name: MSU Broad\n
 Contact phone: 5178844800\n
 Contact email: eebam@msu.edu\n
 for more info visit the web at:\n 
 https://broadmuseum.msu.edu/events/tour-10202024/\n
LOCATION:Eli and Edythe Broad Art Museum
END:VEVENT
END:VCALENDAR
