BEGIN:VCALENDAR
VERSION:2.0
METHOD:PUBLISH
PRODID:-//Virginia Tech//VT Calendar//EN
BEGIN:VEVENT
DTSTAMP:20250122T160000Z
UID:1737486910658@events.msu.edu
CATEGORIES:Student Events
DTSTART:20250122T160000Z
DTEND:20250123T045900Z
SUMMARY:UAB Giveaway Day: Hand Warmers and Hot Cocoa
DESCRIPTION:
 Stop by our table to warm yourself up with FREE 
 hand warmers and hot cocoa packets from UAB, 
 while supplies last!\n\n
 Price: Free for all MSU students, all must show ID\n
 Sponsor: UAB\n
 Sponsor's Homepage: http://www.uabevents.com\n
 Contact name: University Activities Board\n
 Contact phone: 517-355-3354\n
 Contact email: uab@msu.edu\n
 for more info visit the web at:\n 
 https://uabevents.com/\n
LOCATION:North Case Hall Lobby
END:VEVENT
END:VCALENDAR
