BEGIN:VCALENDAR
VERSION:2.0
METHOD:PUBLISH
PRODID:-//Virginia Tech//VT Calendar//EN
BEGIN:VEVENT
DTSTAMP:20250201T160000Z
UID:1738181929090@events.msu.edu
CATEGORIES:Public Programs
DTSTART:20250201T160000Z
DTEND:20250201T200000Z
SUMMARY:Family Day: GROW
DESCRIPTION:
 First Saturday means Family Day at the MSU Broad 
 Art Museum! Make creative connections with 
 our exhibitions through free hands-on and interactive 
 family fun throughout the museum. All 
 ages are welcome.\n
 \n
 Can art grow food? This 
 month, build a sculpture where a seed can 
 sprout, inspired by Farmland: Food, Justice, 
 and Sovereignty. Registration for this free event 
 is encouraged.\n\n
 Price: free\n
 Sponsor: public\n
 Contact name: MSU Broad\n
 Contact email: eebam@msu.edu\n
 for more info visit the web at:\n 
 https://broadmuseum.msu.edu/events/02012025/\n
LOCATION:Eli and Edythe Broad Art Museum
END:VEVENT
END:VCALENDAR
