BEGIN:VCALENDAR
VERSION:2.0
METHOD:PUBLISH
PRODID:-//Virginia Tech//VT Calendar//EN
BEGIN:VEVENT
DTSTAMP:20260220T180000Z
UID:1768503398674@events.msu.edu
CATEGORIES:Student Events
DTSTART:20260220T180000Z
DTEND:20260221T030000Z
SUMMARY:2DAY VENTURE: Spring Session
DESCRIPTION:
 Whether you're new to entrepreneurship, want to 
 experience the highs, lows and pressure of 
 developing a business idea or are exploring working 
 in a startup environment, 2DAY VENTURE 
 (2DV) welcomes all undergraduate and graduate 
 students at Michigan State University to bring 
 their business ideas-no matter how developed 
 it is-and form teams to develop early-stage 
 ideas in this fun, immersive experience.\n
 \n
 2DV is not a hackathon or pitch competition. 
 It's a 36-hour entrepreneurial workshop and 
 experience for Spartans, regardless of their 
 home college, major, or background, to explore 
 turning an idea or innovation into reality 
 in just two days.\n
 \n
 Join the Burgess Institute 
 for Entrepreneurship &amp; Innovation for 
 2DAY VENTURE: Spring Session on Feb. 20-21, 
 2026 in Entrepreneurship Lab. Early registration 
 is highly encouraged.\n\n
 Price: free\n
 Sponsor: public\n
 Contact name: Burgess Institute for Entrepreneurship &amp; Innovation\n
 Contact email: eship@msu.edu\n
 for more info visit the web at:\n 
 https://bit.ly/2dv-vol-xix\n
LOCATION:Minskoff Pavilion
END:VEVENT
END:VCALENDAR
